BEGIN:VCALENDAR
VERSION:2.0
PRODID:-//Faisons vivre la Commune ! - ECPv6.15.20//NONSGML v1.0//EN
CALSCALE:GREGORIAN
METHOD:PUBLISH
X-WR-CALNAME:Faisons vivre la Commune !
X-ORIGINAL-URL:https://faisonsvivrelacommune.org
X-WR-CALDESC:Évènements pour Faisons vivre la Commune !
REFRESH-INTERVAL;VALUE=DURATION:PT1H
X-Robots-Tag:noindex
X-PUBLISHED-TTL:PT1H
BEGIN:VTIMEZONE
TZID:Europe/Paris
BEGIN:DAYLIGHT
TZOFFSETFROM:+0100
TZOFFSETTO:+0200
TZNAME:CEST
DTSTART:20200329T010000
END:DAYLIGHT
BEGIN:STANDARD
TZOFFSETFROM:+0200
TZOFFSETTO:+0100
TZNAME:CET
DTSTART:20201025T010000
END:STANDARD
BEGIN:DAYLIGHT
TZOFFSETFROM:+0100
TZOFFSETTO:+0200
TZNAME:CEST
DTSTART:20210328T010000
END:DAYLIGHT
BEGIN:STANDARD
TZOFFSETFROM:+0200
TZOFFSETTO:+0100
TZNAME:CET
DTSTART:20211031T010000
END:STANDARD
BEGIN:DAYLIGHT
TZOFFSETFROM:+0100
TZOFFSETTO:+0200
TZNAME:CEST
DTSTART:20220327T010000
END:DAYLIGHT
BEGIN:STANDARD
TZOFFSETFROM:+0200
TZOFFSETTO:+0100
TZNAME:CET
DTSTART:20221030T010000
END:STANDARD
BEGIN:DAYLIGHT
TZOFFSETFROM:+0100
TZOFFSETTO:+0200
TZNAME:CEST
DTSTART:20230326T010000
END:DAYLIGHT
BEGIN:STANDARD
TZOFFSETFROM:+0200
TZOFFSETTO:+0100
TZNAME:CET
DTSTART:20231029T010000
END:STANDARD
END:VTIMEZONE
BEGIN:VEVENT
DTSTART;TZID=Europe/Paris:20210529T100000
DTEND;TZID=Europe/Paris:20220220T170000
DTSTAMP:20260421T202220
CREATED:20210320T133834Z
LAST-MODIFIED:20211113T135418Z
UID:5800-1622282400-1645376400@faisonsvivrelacommune.org
SUMMARY:Mémoires Commune 1871-2021 au Musée de l'Histoire vivante
DESCRIPTION:Une exposition proposée par le Musée de l’Histoire vivante et Faisons vivre la Commune ! \nA partir d’une sélection d’affiches de la Commune\, comment tirer des liens entre le projet communard et des événements\, des revendications\, des mouvements du XXe et XXIe siècle. \nEn 2018\, on pouvait lire dans des tracts écrits par des Gilets Jaunes quelques références à la Commune de Paris de 1871. Une fois de plus\, on discuta en assemblée générale\, aux ronds-points\, et on évoqua les idées de république sociale et démocratique\, de justice sociale\, de démocratie directe\, de citoyenneté\, de droits égaux\, de conditions de travail et de salaire\, mais aussi de dignité et de reconnaissance.À l’occasion du 150e anniversaire de la Commune de Paris\, le Musée de l’Histoire vivante vous propose de retourner dans ce passé se projetant dans de possibles futures et dont les échos nous parviennent encore aujourd’hui. Au gré d’un parcours historique et thématique\, nous vous invitons à découvrir ou redécouvrir par l’image et le texte\, cette révolution dans toute sa diversité\, son développement en province ou à l’étranger\, son action et ses projets de réformes\, mais aussi ses errements violents incomparables avec la terrible répression qui s’abattit sur les communard.e.s du 21-28 mai 1871. Un parcours d’histoire qui se conclura par le souvenir\, les mémoires de la Commune de 1880 à nos jours. \nPoser des repères\, comprendre la permanence des revendications et des perspectives émancipatrices posées par la Commune. Une exposition pédagogique destinée au plus grand nombre et aux scolaires. \nLe Musée de l’Histoire vivante a pour projet de devenir le Musée d’Histoire du Mouvement Ouvrier car à la différence d’autres pays européens\, il n’y a pas en France de musée pour exposer et mettre en valeur les documents et objets de l’histoire ouvrière. \nHoraires d’ouverture : mercredi / jeudi / vendredi – de 14h à 17h\nsamedi / dimanche – de 11h à 18h \n  \n \n  \nUne exposition de la Saison communarde et du Musée de l’Histoire vivante (Montreuil). \n\n\n\n\n\n\n\n\n\n 
URL:https://faisonsvivrelacommune.org/evenement/memoires-commune-1871-2021/
LOCATION:Musée de l’Histoire Vivante\, 31\, bd. Théophile Sueur\, Montreuil\, 93100
CATEGORIES:Exposition
ATTACH;FMTTYPE=image/jpeg:https://faisonsvivrelacommune.org/wp-content/uploads/2021/03/AFFICHE_Expo-1871_2021_MHV_Def.jpg
ORGANIZER;CN="Faisons vivre la Commune !":MAILTO:contact@faisonsvivrelacommune.org
END:VEVENT
END:VCALENDAR